BEGIN:VCALENDAR
VERSION:2.0
PRODID:icalendar-ruby
CALSCALE:GREGORIAN
METHOD:PUBLISH
BEGIN:VEVENT
DTSTAMP:20260422T105057Z
UID:21-705118@epiphanybaptist.com
DTSTART:20261020T233000Z
DTEND:20261021T004500Z
CLASS:PUBLIC
CREATED:20260421T202115
DESCRIPTION:
LAST-MODIFIED:20260421T202115
LOCATION:211 1st Ave W\, Springfield\, TN 37172 
SUMMARY:Tuesday Night "Core Conversations"
URL;VALUE=URI:https://www.epiphanybaptist.com/events/tuesday-night-core-con
 versations/2026-10-20
ATTACH;FILENAME=coreconversations.png;FMTTYPE=image/png:https://dq5pwpg1q8r
 u0.cloudfront.net/2026/03/04/20/56/50/72e392c3-d04a-46bb-87db-297c3cf6c700
 /coreconversations.png
END:VEVENT
END:VCALENDAR
