BEGIN:VCALENDAR
VERSION:2.0
PRODID:icalendar-ruby
CALSCALE:GREGORIAN
METHOD:PUBLISH
BEGIN:VEVENT
DTSTAMP:20260424T182317Z
UID:14-713605@epiphanybaptist.com
DTSTART:20260920T160500Z
DTEND:20260920T170500Z
CLASS:PUBLIC
CREATED:20260424T130816
DESCRIPTION:Join us each week as we join together for worship and the Word!
LAST-MODIFIED:20260424T130816
LOCATION:211 1st Ave. West\, Springfield\, TN 37172
SUMMARY:Sunday Ignite
URL;VALUE=URI:https://www.epiphanybaptist.com/events/sunday-ignite/2026-09-
 20
ATTACH;FILENAME=Untitled-design.png;FMTTYPE=image/png:https://dq5pwpg1q8ru0
 .cloudfront.net/2025/01/12/05/40/31/953dc145-a177-4327-822f-176ee0c8f081/U
 ntitled-design.png
END:VEVENT
END:VCALENDAR
