BEGIN:VCALENDAR
VERSION:2.0
PRODID:icalendar-ruby
CALSCALE:GREGORIAN
METHOD:PUBLISH
BEGIN:VEVENT
DTSTAMP:20260423T033953Z
UID:16-708572@epiphanybaptist.com
DTSTART:20261103T233000Z
DTEND:20261104T023000Z
CLASS:PUBLIC
CREATED:20260422T215910
DESCRIPTION:
LAST-MODIFIED:20260422T215910
LOCATION:211 1st Ave. West\, Springfield\, TN 37172
SUMMARY:Middle & High School Youth
URL;VALUE=URI:https://www.epiphanybaptist.com/events/middle-high-school-you
 th/2026-11-03
ATTACH;FILENAME=EPIPHANY.png;FMTTYPE=image/png:https://dq5pwpg1q8ru0.cloudf
 ront.net/2025/01/13/20/58/05/674e83f5-74d5-4282-a6e7-39c1dcc8b7fd/EPIPHANY
 .png
END:VEVENT
END:VCALENDAR
