BEGIN:VCALENDAR
VERSION:2.0
PRODID:icalendar-ruby
CALSCALE:GREGORIAN
METHOD:PUBLISH
BEGIN:VEVENT
DTSTAMP:20260423T015958Z
UID:16-707990@epiphanybaptist.com
DTSTART:20261027T223000Z
DTEND:20261028T013000Z
CLASS:PUBLIC
CREATED:20260422T190503
DESCRIPTION:
LAST-MODIFIED:20260422T190503
LOCATION:211 1st Ave. West\, Springfield\, TN 37172
SUMMARY:Middle & High School Youth
URL;VALUE=URI:https://www.epiphanybaptist.com/events/middle-high-school-you
 th/2026-10-27
ATTACH;FILENAME=EPIPHANY.png;FMTTYPE=image/png:https://dq5pwpg1q8ru0.cloudf
 ront.net/2025/01/13/20/58/05/674e83f5-74d5-4282-a6e7-39c1dcc8b7fd/EPIPHANY
 .png
END:VEVENT
END:VCALENDAR
