BEGIN:VCALENDAR
VERSION:2.0
PRODID:icalendar-ruby
CALSCALE:GREGORIAN
METHOD:PUBLISH
BEGIN:VEVENT
DTSTAMP:20260423T000446Z
UID:16-707408@epiphanybaptist.com
DTSTART:20261020T223000Z
DTEND:20261021T013000Z
CLASS:PUBLIC
CREATED:20260422T161320
DESCRIPTION:
LAST-MODIFIED:20260422T161320
LOCATION:211 1st Ave. West\, Springfield\, TN 37172
SUMMARY:Middle & High School Youth
URL;VALUE=URI:https://www.epiphanybaptist.com/events/middle-high-school-you
 th/2026-10-20
ATTACH;FILENAME=EPIPHANY.png;FMTTYPE=image/png:https://dq5pwpg1q8ru0.cloudf
 ront.net/2025/01/13/20/58/05/674e83f5-74d5-4282-a6e7-39c1dcc8b7fd/EPIPHANY
 .png
END:VEVENT
END:VCALENDAR
